BEGIN:VCALENDAR
VERSION:2.0
PRODID:-//jEvents 2.0 for Joomla//EN
CALSCALE:GREGORIAN
METHOD:PUBLISH
BEGIN:VTIMEZONE
TZID:Europe/Berlin
END:VTIMEZONE
BEGIN:VEVENT
UID:7c97d180273edb28052de857c33525ff
CATEGORIES:Maschgerer
CREATED:20250111T102518
SUMMARY:Huttlerlaffn im ganzen Dorf
DESCRIPTION:<p>Huttlerlaffn im ganzen Dorf</p><p>Start: 16:00 Vivavinz</p>
DTSTAMP:20260420T084101
DTSTART;TZID=Europe/Berlin:20250120T160000
DTEND;TZID=Europe/Berlin:20250120T220000
SEQUENCE:0
TRANSP:OPAQUE
END:VEVENT
END:VCALENDAR