BEGIN:VCALENDAR
VERSION:2.0
PRODID:-//jEvents 2.0 for Joomla//EN
CALSCALE:GREGORIAN
METHOD:PUBLISH
BEGIN:VTIMEZONE
TZID:Europe/Berlin
END:VTIMEZONE
BEGIN:VEVENT
UID:c2202f5817c8b2a6caaf33acdeebe4cd
CATEGORIES:Maschgerer
CREATED:20250111T102632
SUMMARY:Funzlparty in der Weissen Katz
DESCRIPTION:<p>Funzlparty</p>
DTSTAMP:20260420T084101
DTSTART;TZID=Europe/Berlin:20250222T190000
DTEND;TZID=Europe/Berlin:20250222T000000
SEQUENCE:0
TRANSP:OPAQUE
END:VEVENT
END:VCALENDAR