BEGIN:VCALENDAR
VERSION:2.0
PRODID:-//jEvents 2.0 for Joomla//EN
CALSCALE:GREGORIAN
METHOD:PUBLISH
BEGIN:VTIMEZONE
TZID:Europe/Berlin
END:VTIMEZONE
BEGIN:VEVENT
UID:e5454063c6a079936a71c4773988a4d0
CATEGORIES:Maschgerer
CREATED:20250111T102821
SUMMARY:Krawallsamstag
DESCRIPTION:Krawallsamstag, ab Mittag erinnern die Goasslschneller lautstark, dass der 
 Fasching ins Finale geht.\n
X-ALT-DESC;FMTTYPE=text/html:<p>Krawallsamstag, ab Mittag erinnern die Goasslschneller lautstark, dass d
 er Fasching ins Finale geht.</p>
DTSTAMP:20260420T081832
DTSTART;TZID=Europe/Berlin:20250301T113000
DTEND;TZID=Europe/Berlin:20250301T170000
SEQUENCE:0
TRANSP:OPAQUE
END:VEVENT
END:VCALENDAR