BEGIN:VCALENDAR
VERSION:2.0
PRODID:-//jEvents 2.0 for Joomla//EN
CALSCALE:GREGORIAN
METHOD:PUBLISH
BEGIN:VTIMEZONE
TZID:Europe/Berlin
END:VTIMEZONE
BEGIN:VEVENT
UID:874698bcedd6fca4b6810f396793322a
CATEGORIES:Maschgerer
CREATED:20250111T102942
SUMMARY:Er&Sie Rennen
DESCRIPTION:ER &amp; Sie Rennen beim Schwimmbad\nBeginn 12:30\n
X-ALT-DESC;FMTTYPE=text/html:<p>ER &amp; Sie Rennen beim Schwimmbad</p><p>Beginn 12:30</p>
DTSTAMP:20260420T083415
DTSTART;TZID=Europe/Berlin:20250302T123000
DTEND;TZID=Europe/Berlin:20250302T000000
SEQUENCE:0
TRANSP:OPAQUE
END:VEVENT
END:VCALENDAR