BEGIN:VCALENDAR
VERSION:2.0
PRODID:-//jEvents 2.0 for Joomla//EN
CALSCALE:GREGORIAN
METHOD:PUBLISH
BEGIN:VTIMEZONE
TZID:Europe/Berlin
END:VTIMEZONE
BEGIN:VEVENT
UID:b7d26f5f9efa22cf3c392c26c7b50738
CATEGORIES:Maschgerer
CREATED:20250111T103058
SUMMARY:Faschingskehraus
DESCRIPTION:Faschingsausklang beim Würstlstand\n
X-ALT-DESC;FMTTYPE=text/html:<p>Faschingsausklang beim Würstlstand</p>
DTSTAMP:20260420T083330
DTSTART;TZID=Europe/Berlin:20250304T140000
DTEND;TZID=Europe/Berlin:20250304T230000
SEQUENCE:0
TRANSP:OPAQUE
END:VEVENT
END:VCALENDAR