BEGIN:VCALENDAR
VERSION:2.0
PRODID:-//jEvents 2.0 for Joomla//EN
CALSCALE:GREGORIAN
METHOD:PUBLISH
BEGIN:VTIMEZONE
TZID:Europe/Berlin
END:VTIMEZONE
BEGIN:VEVENT
UID:293236449e65a37272ae1ce13577f09d
CATEGORIES:Maschgerer
CREATED:20251012T153809
SUMMARY:Ausschuss Sitzung
DESCRIPTION:Bei Julia Kranebitter, Mühlweg\n
X-ALT-DESC;FMTTYPE=text/html:<p>Bei Julia Kranebitter, Mühlweg</p>
DTSTAMP:20260420T084508
DTSTART;TZID=Europe/Berlin:20251028T190000
DTEND;TZID=Europe/Berlin:20251028T220000
SEQUENCE:0
TRANSP:OPAQUE
END:VEVENT
END:VCALENDAR