BEGIN:VCALENDAR
VERSION:2.0
PRODID:-//jEvents 2.0 for Joomla//EN
CALSCALE:GREGORIAN
METHOD:PUBLISH
BEGIN:VTIMEZONE
TZID:Europe/Berlin
END:VTIMEZONE
BEGIN:VEVENT
UID:677e583ee37f52c7abf8ad90a87dee9d
CATEGORIES:Maschgerer
CREATED:20251104T132219
SUMMARY:Jahreshauptversammlung GH Stollhofer
DESCRIPTION:Tagesordnung:\n1. Begrüßung\n2. Festellung der Beschussfähigkeit\n3. Gedenk
 en an verstorbene Mitglieder\n4. Genehmigung des Protokolls der JHV vom 15.
 11.2024\n5.Bericht des Obmanns\n6. Bericht des Kassiers\n7. Bericht der Kas
 saprüfer, Bestimmung neuer Kassaprüger\n8. nachträglich jeingebrachte Tages
 ordnungsgespräche\n9. Neuwahlen\n10. Fasching 2026 (huttlerlaffn, Er&amp;Si
 e Rennen)\n11. Umzug 2027\n12 Allfälliges\n\nWir bitten um zahlreiche Teiln
 ahme an der JHV. \n
X-ALT-DESC;FMTTYPE=text/html:<p>Tagesordnung:<br />1. Begrüßung<br />2. Festellung der Beschussfähigkeit
 <br />3. Gedenken an verstorbene Mitglieder<br />4. Genehmigung des Protoko
 lls der JHV vom 15.11.2024<br />5.Bericht des Obmanns<br />6. Bericht des K
 assiers<br />7. Bericht der Kassaprüfer, Bestimmung neuer Kassaprüger<br />
 8. nachträglich jeingebrachte Tagesordnungsgespräche<br />9. Neuwahlen<br /
 >10. Fasching 2026 (huttlerlaffn, Er&amp;Sie Rennen)<br />11. Umzug 2027<br
  />12 Allfälliges<br /><br />Wir bitten um zahlreiche Teilnahme an der JHV.
  </p>
DTSTAMP:20260420T084421
DTSTART;TZID=Europe/Berlin:20251115T180000
DTEND;TZID=Europe/Berlin:20251115T220000
SEQUENCE:0
TRANSP:OPAQUE
END:VEVENT
END:VCALENDAR